BEGIN:VCALENDAR
PRODID:-//hacksw/handcal//NONSGML v1.0//EN
VERSION:2.0
METHOD:PUBLISH
BEGIN:VEVENT
DTSTART:20261119T163000Z
DTEND:20261119T180000Z
LOCATION:Cherokee Country Club
UID:2882120261119T163000ZThe Power of Balance Sheet Philanthropy
DTSTAMP:20260421T131844Z
DESCRIPTION:\nPlease join us at Cherokee Country Club on November 19 for a buffet lunch and presentation by Justin Lopez, President of 25 Giving. Justin will discuss trends in giving, the power of the asset gift, and how industry professionals can identify these sorts of opportunities.\n \n25 Giving is a boutique service that specializes in philantrhopic and stewardship planning. Its mission is to help generous people develop proactive stewardship plans in ways that make their kindness more effective, meaningful, and profound and believes that true stewardship has two essential sides: growing wealth and giving it away meaningfully. Justin contends most financial advisors are skilled at helping clients accumulate and manage wealth, but he believes they often lack the same level of intentionality, strategy, and guidance when it comes to charitable giving.\n \nJustin is an articulate speaker and helps planners with creative strategies to achieve an individual's goal of liquidating an asset while reducing or completely eliminating their tax bill and by increasing benefits to them, their loved ones, and non-profit organizations. \n
SUMMARY:The Power of Balance Sheet Philanthropy - Knoxville Estate Planning Council 
PRIORITY:3
BEGIN:VALARM
TRIGGER:PT18H
ACTION:DISPLAY
DESCRIPTION:Reminder
END:VALARM
END:VEVENT
END:VCALENDAR